BEGIN:VCALENDAR
VERSION:2.0
PRODID:-//Tulane Undergraduate Public Health Studies - ECPv6.15.20//NONSGML v1.0//EN
CALSCALE:GREGORIAN
METHOD:PUBLISH
X-WR-CALNAME:Tulane Undergraduate Public Health Studies
X-ORIGINAL-URL:https://bsph.wp.tulane.edu
X-WR-CALDESC:Events for Tulane Undergraduate Public Health Studies
REFRESH-INTERVAL;VALUE=DURATION:PT1H
X-Robots-Tag:noindex
X-PUBLISHED-TTL:PT1H
BEGIN:VTIMEZONE
TZID:America/Chicago
BEGIN:DAYLIGHT
TZOFFSETFROM:-0600
TZOFFSETTO:-0500
TZNAME:CDT
DTSTART:20230312T080000
END:DAYLIGHT
BEGIN:STANDARD
TZOFFSETFROM:-0500
TZOFFSETTO:-0600
TZNAME:CST
DTSTART:20231105T070000
END:STANDARD
BEGIN:DAYLIGHT
TZOFFSETFROM:-0600
TZOFFSETTO:-0500
TZNAME:CDT
DTSTART:20240310T080000
END:DAYLIGHT
BEGIN:STANDARD
TZOFFSETFROM:-0500
TZOFFSETTO:-0600
TZNAME:CST
DTSTART:20241103T070000
END:STANDARD
BEGIN:DAYLIGHT
TZOFFSETFROM:-0600
TZOFFSETTO:-0500
TZNAME:CDT
DTSTART:20250309T080000
END:DAYLIGHT
BEGIN:STANDARD
TZOFFSETFROM:-0500
TZOFFSETTO:-0600
TZNAME:CST
DTSTART:20251102T070000
END:STANDARD
END:VTIMEZONE
BEGIN:VEVENT
DTSTART;VALUE=DATE:20241104
DTEND;VALUE=DATE:20241105
DTSTAMP:20260425T211943
CREATED:20240829T162140Z
LAST-MODIFIED:20240829T162140Z
UID:1555-1730678400-1730764799@bsph.wp.tulane.edu
SUMMARY:Registration for Spring 2025 Begins
DESCRIPTION:
URL:https://bsph.wp.tulane.edu/event/registration-for-spring-2025-begins/
LOCATION:LA
CATEGORIES:Academic Dates
END:VEVENT
BEGIN:VEVENT
DTSTART;VALUE=DATE:20241107
DTEND;VALUE=DATE:20241111
DTSTAMP:20260425T211943
CREATED:20240829T162140Z
LAST-MODIFIED:20240829T162140Z
UID:1556-1730937600-1731283199@bsph.wp.tulane.edu
SUMMARY:Wave '24 Weekend
DESCRIPTION:
URL:https://bsph.wp.tulane.edu/event/wave-24-weekend/
LOCATION:LA
END:VEVENT
BEGIN:VEVENT
DTSTART;TZID=America/Chicago:20241108T133000
DTEND;TZID=America/Chicago:20241108T143000
DTSTAMP:20260425T211943
CREATED:20241029T160441Z
LAST-MODIFIED:20241029T160441Z
UID:1708-1731072600-1731076200@bsph.wp.tulane.edu
SUMMARY:Homecoming Open House\, November 8th
DESCRIPTION:Join us for a reception & open house for parents of public health students and public health alumni during Wave ’24 Weekend.  \nRefreshments will be served. RSVP to Caitrin Gladow at cgladow@tulane.edu. \n 
URL:https://bsph.wp.tulane.edu/event/homecoming-open-house-november-8th/
LOCATION:Public Health Lobby in Caroline Richardson Building\, 62 Newcomb Place\, New Orleans\, LA
CATEGORIES:Events
ATTACH;FMTTYPE=image/jpeg:https://bsph.wp.tulane.edu/wp-content/uploads/sites/41/2024/10/SPHU-Homecoming-Open-House-Fa24.jpg
END:VEVENT
BEGIN:VEVENT
DTSTART;VALUE=DATE:20241125
DTEND;VALUE=DATE:20241202
DTSTAMP:20260425T211943
CREATED:20240829T162155Z
LAST-MODIFIED:20240829T162155Z
UID:1557-1732492800-1733097599@bsph.wp.tulane.edu
SUMMARY:THANKSGIVING BREAK
DESCRIPTION:
URL:https://bsph.wp.tulane.edu/event/thanksgiving-break/
LOCATION:LA
END:VEVENT
END:VCALENDAR