BEGIN:VCALENDAR
VERSION:2.0
PRODID:-//Tulane Undergraduate Public Health Studies - ECPv6.15.20//NONSGML v1.0//EN
CALSCALE:GREGORIAN
METHOD:PUBLISH
X-WR-CALNAME:Tulane Undergraduate Public Health Studies
X-ORIGINAL-URL:https://bsph.wp.tulane.edu
X-WR-CALDESC:Events for Tulane Undergraduate Public Health Studies
REFRESH-INTERVAL;VALUE=DURATION:PT1H
X-Robots-Tag:noindex
X-PUBLISHED-TTL:PT1H
BEGIN:VTIMEZONE
TZID:America/Chicago
BEGIN:DAYLIGHT
TZOFFSETFROM:-0600
TZOFFSETTO:-0500
TZNAME:CDT
DTSTART:20240310T080000
END:DAYLIGHT
BEGIN:STANDARD
TZOFFSETFROM:-0500
TZOFFSETTO:-0600
TZNAME:CST
DTSTART:20241103T070000
END:STANDARD
BEGIN:DAYLIGHT
TZOFFSETFROM:-0600
TZOFFSETTO:-0500
TZNAME:CDT
DTSTART:20250309T080000
END:DAYLIGHT
BEGIN:STANDARD
TZOFFSETFROM:-0500
TZOFFSETTO:-0600
TZNAME:CST
DTSTART:20251102T070000
END:STANDARD
BEGIN:DAYLIGHT
TZOFFSETFROM:-0600
TZOFFSETTO:-0500
TZNAME:CDT
DTSTART:20260308T080000
END:DAYLIGHT
BEGIN:STANDARD
TZOFFSETFROM:-0500
TZOFFSETTO:-0600
TZNAME:CST
DTSTART:20261101T070000
END:STANDARD
END:VTIMEZONE
BEGIN:VEVENT
DTSTART;VALUE=DATE:20250503
DTEND;VALUE=DATE:20250509
DTSTAMP:20260424T175210
CREATED:20241203T181340Z
LAST-MODIFIED:20241203T181340Z
UID:1777-1746230400-1746748799@bsph.wp.tulane.edu
SUMMARY:Final Exams
DESCRIPTION:
URL:https://bsph.wp.tulane.edu/event/final-exams-2/
LOCATION:LA
CATEGORIES:Academic Dates
END:VEVENT
BEGIN:VEVENT
DTSTART;TZID=America/Chicago:20250505T090000
DTEND;TZID=America/Chicago:20250508T160000
DTSTAMP:20260424T175210
CREATED:20250421T154831Z
LAST-MODIFIED:20250421T155123Z
UID:1994-1746435600-1746720000@bsph.wp.tulane.edu
SUMMARY:Finals Study Break\, Spring '25
DESCRIPTION:Take a little break during finals and come to the undergraduate public heath office for coffee\, tea\, and snacks. \nMonday – Friday during finals (May 5th-8th)\n9:00am – 4:00pm\nPublic Health Lobby in Caroline Richardson Building (enter on the right side of the building) \nGet some coffee and run or stay and relax. Bring a mug!
URL:https://bsph.wp.tulane.edu/event/finals-study-break-spring-25/
LOCATION:Public Health Lobby in Caroline Richardson Building\, 62 Newcomb Place\, New Orleans\, LA
CATEGORIES:Events
ATTACH;FMTTYPE=image/jpeg:https://bsph.wp.tulane.edu/wp-content/uploads/sites/41/2025/04/SPHU-study-break-Sp25.jpg
END:VEVENT
END:VCALENDAR